Workbook

Sheet CE
D1: Conto economico come da piano dei conti regionale | E1: Esercizio 2015
D2: Riserve di capitale
D3: Riserve di capitale
D4: Riserve di utili
D5: Riserve di utili
D6: Altre riserve
D7: Altre riserve
D8: Utili (perdite) portati a nuovo
D9: Utili esercizi precedenti
D10: (Perdite esercizi precedenti)
D11: Utile (Perdita) dell’esercizio
D12: Utile d’esercizio
D13: (Perdita d’esercizio)
... D97: Bilancio di chiusura
A98: A | D98: VALORE DELLA PRODUZIONE
D99: Valore della produzione attività caratteristica | E99: =SUBTOTAL(9,E100:E132) -> 2488035.2 | F99: =SUBTOTAL(9,F100:F132) -> 0
B100: 1 | D100: Ricavi delle vendite e delle prestazioni | E100: =SUBTOTAL(9,E101:E109) -> 2411035.2 | F100: =SUBTOTAL(9,F101:F109) -> 0
D101: Ricavi per rette ospiti | E101: =93075+1033434+197726.25 -> 1324235.2
D102: Quote regionali di residenzialità | E102: 1085000
D103: Ricavi per centro diurno | E103: 0
D104: Ricavi per assistenza riabilitativa | E104: 0
D105: Ricavi per prestazioni di assistenza domiciliare da Comune | E105: 0
D106: Ricavi per prestazioni di assistenza domiciliare da privati | E106: 0
D107: Altri ricavi delle prestazioni di carattere assistenziale e sanitario | E107: 1800
D108: Rettifiche di ricavi per prestazioni | E108: 0
D109: Sconti e abbuoni | E109: 0
B110: 2 | D110: Incremento delle immobilizzazioni per lavori interni | E110: =SUBTOTAL(9,E111:E111) -> 0 | F110: =SUBTOTAL(9,F111:F111) -> 0
D111: Incremento delle immobilizzazioni per lavori interni | E111: 0
B112: 3 | D112: Contributi in conto esercizio | E112: =SUBTOTAL(9,E113:E113) -> 0 | F112: =SUBTOTAL(9,F113:F113) -> 0
D113: Contributi c/esercizio stato | E113: 0
D114: Contributi c/esercizio regione | E114: 0
D115: Contributi c/esercizio altri enti pubblici | E115: 0
B116: 4 | D116: Contributi in conto capitale | E116: =SUBTOTAL(9,E117:E120) -> 3000 | F116: =SUBTOTAL(9,F117:F120) -> 0
D117: Contributi c/capitale | E117: 0
D118: Contributi c/impianti (quota annua) | E118: 0
D119: Contributi da enti pubblici | E119: 0
D120: Contributi da privati | E120: 3000
B121: 5 | D121: Altri ricavi e proventi | E121: =SUBTOTAL(9,E122:E132) -> 74000 | F121: =SUBTOTAL(9,F122:F132) -> 0
D122: Ricavi mensa interni
D123: Proventi pasti familiari
...

Sheet Prospetto art.8 DL 66.2014
A1: Prospetto di cui all'art. 8, comma 1, DL 66/2014 (enti in contabilità economica) | B1: Anno 2015 | C1: Anno 2015
B2: Parziali | C2: Totali
A3: A) - VALORE DELLA PRODUZIONE
A4: 1) Ricavi e proventi per l'attività istituzionale | C4: =B5+B6+B11+B16+B17+B18 -> 2414035.2
A5: a) contributo ordinario dello Stato
A6: b) corrispettivi da contratto di servizio | B6: =SUM(B7:B10) -> 1085000
A7: b.1) con lo Stato
A8: b.2) con le Regioni | B8: =CE!E102 -> 1085000
A9: b.3) con altri enti pubblici | B9: =CE!E105 -> 0
A10: b.4) con l'Unione Europea
A11: c) contributi in conto esercizio | B11: =SUM(B12:B15) -> 0
A12: c.1) contributi dallo Stato | B12: =CE!E113 -> 0
A13: c.2) contributi da Regioni | B13: =CE!E114 -> 0
A14: c.3) contributi da altri enti pubblici | B14: =CE!E115 -> 0
A15: c.4) contributi dall'Unione Europea
A16: d) contributi da privati | B16: =CE!E120 -> 3000
A17: e) proventi fiscali e parafiscali
A18: f) ricavi per cessioni di prodotti e prestazioni di servizi | B18: =CE!E101+CE!E103+CE!E104+CE!E106+CE!E107+CE!E108+CE!E109 -> 1326035.2
A19: 2) variazione delle rimanenze dei prodotti in corso di lavorazione, semilavorati e finiti
A20: 3) variazioni dei lavori in corso su ordinazione
A21: 4) incremento di immobili per lavori interni | C21: =CE!E110 -> 0
A22: 5) altri ricavi e proventi | C22: =SUM(B23:B24) -> 74000
A23: a) quota contributi in conto capitale imputata all'esercizio | B23: =CE!E118 -> 0
A24: b) altri ricavi e proventi | B24: =CE!E117+CE!E119+CE!E121+CE!E134 -> 74000
A25: Totale valore della produzione (A) | C25: =SUM(C4:C24) -> 2488035.2
A26: B) COSTI DELLA PRODUZIONE
A27: 6) per materie prime, sussidiarie, di consumo e di merci | C27: =CE!E140+CE!E300 -> 168000
A28: 7) per servizi | C28: =SUM(B29:B32) -> 845959.7
A29: a) erogazione di servizi istituzionali | B29: =CE!E155+CE!E156+CE!E157+CE!E158+CE!E159+CE!E160+CE!E161+CE!E162+CE!E163+CE!E164+CE!E165+CE!E166 -> 590500
A30: b) acquisizione di servizi | B30: =CE!E167+CE!E168+CE!E174+CE!E175+CE!E176+CE!E177+CE!E178+CE!E179+CE!E180+CE!E181+CE!E182+CE!E183+CE!E184+CE!E185+CE!E186+CE!E187+CE!E188+CE!E189+CE!E200+CE!E201+CE!E202+CE!E203+CE!E204+CE!E205+CE!E206+CE!E303 -> 207499.7
A31: c) consulenze, collaborazioni, altre prestazioni lavoro | B31: =CE!E169+CE!E170+CE!E171+CE!E172+CE!E173+CE!E190+CE!E191+CE!E193+CE!E194+CE!E195+CE!E196+CE!E197+CE!E199+CE!E207 -> 33960
A32: d) compensi ad organi di amministrazione e di controllo | B32: =CE!E192+CE!E198 -> 14000
A33: 8) per godimento di beni di terzi | C33: =CE!E208 -> 0
A34: 9) per il personale | C34: =SUM(B35:B39) -> 1339000
A35: a) salari e stipendi | B35: =CE!E214 -> 968000
A36: b) oneri sociali | B36: =CE!E218 -> 281000
A37: c) trattamento di fine rapporto | B37: =CE!E222 -> 0
A38: d) trattamento di quiescenza e simili
A39: e) altri costi | B39: =CE!E224+CE!E226 -> 90000
A40: 10) ammortamenti e svalutazioni | C40: =SUM(B41:B44) -> 122170.55
...
